BEGIN:VCALENDAR
VERSION:2.0
PRODID:icalendar-ruby
CALSCALE:GREGORIAN
BEGIN:VEVENT
DTSTAMP:20210121T034441Z
UID:fff19baa-0e6d-45e2-bcfa-2d030ed3e2f4
DTSTART;VALUE=DATE:20201008
DESCRIPTION:Property ID# 489908\, Time: 12:00PM
SUMMARY:Auction for 
END:VEVENT
END:VCALENDAR
