BEGIN:VCALENDAR
VERSION:2.0
PRODID:icalendar-ruby
CALSCALE:GREGORIAN
BEGIN:VEVENT
DTSTAMP:20210121T034506Z
UID:441fcb02-5b42-450c-9852-9ad9a27c24b5
DTSTART;VALUE=DATE:20201105
DESCRIPTION:Property ID# 492424\, Time: 12:00PM
SUMMARY:Auction for 
END:VEVENT
END:VCALENDAR
