BEGIN:VCALENDAR
VERSION:2.0
PRODID:icalendar-ruby
CALSCALE:GREGORIAN
BEGIN:VEVENT
DTSTAMP:20210121T034444Z
UID:6a121c34-bb54-414d-970b-8fd2b7ff993b
DTSTART;VALUE=DATE:20201125
DESCRIPTION:Property ID# 494466\, Locatoin: Tait Technology Centre\, 245 Wo
 olridge Road\, Christchurch\, Time: 12:00PM
SUMMARY:Auction for 207B Hoon Hay Road
END:VEVENT
END:VCALENDAR
