BEGIN:VCALENDAR
VERSION:2.0
PRODID:icalendar-ruby
CALSCALE:GREGORIAN
BEGIN:VEVENT
DTSTAMP:20260426T030743Z
UID:8068333d-ab0b-473b-8199-6d78fbc6345c
DTSTART;VALUE=DATE:20191016
DESCRIPTION:Property ID# 461973\, Time: 4:00PM
SUMMARY:Auction for 
END:VEVENT
END:VCALENDAR
