BEGIN:VCALENDAR
VERSION:2.0
PRODID:icalendar-ruby
CALSCALE:GREGORIAN
BEGIN:VEVENT
DTSTAMP:20260426T030137Z
UID:49cd39ba-9626-46d9-afbe-1cd47f8f5426
DTSTART;VALUE=DATE:20191113
DESCRIPTION:Property ID# 465334\, Locatoin: All offers on or before 4pm\, W
 ednesday 13th November 2019 (unless sold prior).\, Time: 12:00PM
SUMMARY:Auction for 
END:VEVENT
END:VCALENDAR
