BEGIN:VCALENDAR
VERSION:2.0
PRODID:icalendar-ruby
CALSCALE:GREGORIAN
BEGIN:VEVENT
DTSTAMP:20260426T030743Z
UID:3a3676c3-4af1-4c15-8178-ffddc422a98b
DTSTART;VALUE=DATE:20210506
DESCRIPTION:Property ID# 507390\, Time: 4:00PM
SUMMARY:Auction for 
END:VEVENT
END:VCALENDAR
