BEGIN:VCALENDAR
VERSION:2.0
PRODID:icalendar-ruby
CALSCALE:GREGORIAN
BEGIN:VEVENT
DTSTAMP:20260426T030315Z
UID:05020e7a-6678-432c-b19e-509cee9d476b
DTSTART;VALUE=DATE:20211006
DESCRIPTION:Property ID# 517524\, Time: 4:00PM
SUMMARY:Auction for 
END:VEVENT
END:VCALENDAR
