BEGIN:VCALENDAR
VERSION:2.0
PRODID:icalendar-ruby
CALSCALE:GREGORIAN
BEGIN:VEVENT
DTSTAMP:20260425T235629Z
UID:fdd3b636-3a1d-4c09-a581-5ac043006cc7
DTSTART;VALUE=DATE:20220217
DESCRIPTION:Property ID# 527369\, Locatoin: 98 Moorhouse Avenue\, Time: 12:
 00PM
SUMMARY:Auction for 
END:VEVENT
END:VCALENDAR
