BEGIN:VCALENDAR
VERSION:2.0
PRODID:icalendar-ruby
CALSCALE:GREGORIAN
BEGIN:VEVENT
DTSTAMP:20260425T235506Z
UID:2fb36309-78b5-48ab-9a89-8e2d2c9ba0b8
DTSTART;VALUE=DATE:20220505
DESCRIPTION:Property ID# 533666\, Locatoin: 98 Moorhouse Avenue\, Time: 11:
 00AM
SUMMARY:Auction for 
END:VEVENT
END:VCALENDAR
