BEGIN:VCALENDAR
VERSION:2.0
PRODID:icalendar-ruby
CALSCALE:GREGORIAN
BEGIN:VEVENT
DTSTAMP:20260425T235506Z
UID:342bac5c-b006-4234-b415-88f160a1ee3e
DTSTART;VALUE=DATE:20220601
DESCRIPTION:Property ID# 535959\, Time: 12:00PM
SUMMARY:Auction for 
END:VEVENT
END:VCALENDAR
