BEGIN:VCALENDAR
VERSION:2.0
PRODID:icalendar-ruby
CALSCALE:GREGORIAN
BEGIN:VEVENT
DTSTAMP:20260425T205802Z
UID:e9866cf8-cc96-482c-bda2-e7e01c72f43f
DTSTART;VALUE=DATE:20230209
DESCRIPTION:Property ID# 550733\, Locatoin: 98 Moorhouse Avenue\, Time: 11:
 00AM
SUMMARY:Auction for 
END:VEVENT
END:VCALENDAR
