BEGIN:VCALENDAR
VERSION:2.0
PRODID:icalendar-ruby
CALSCALE:GREGORIAN
BEGIN:VEVENT
DTSTAMP:20260425T235219Z
UID:186034ef-fdf6-4b57-b0b9-9d725f2f2d08
DTSTART;VALUE=DATE:20230504
DESCRIPTION:Property ID# 555740\, Locatoin: 98 Moorhouse Avenue\, Time: 11:
 00AM
SUMMARY:Auction for 
END:VEVENT
END:VCALENDAR
