BEGIN:VCALENDAR
VERSION:2.0
PRODID:icalendar-ruby
CALSCALE:GREGORIAN
BEGIN:VEVENT
DTSTAMP:20260425T235246Z
UID:0eeef9cb-228b-43c7-9c42-d3b2b3b2e17a
DTSTART;VALUE=DATE:20230518
DESCRIPTION:Property ID# 556276\, Locatoin: 98 Moorhouse Avenue\, Time: 11:
 00AM
SUMMARY:Auction for 
END:VEVENT
END:VCALENDAR
