BEGIN:VCALENDAR
VERSION:2.0
PRODID:icalendar-ruby
CALSCALE:GREGORIAN
BEGIN:VEVENT
DTSTAMP:20260425T235527Z
UID:a101382c-5966-416b-bda4-0440752e7892
DTSTART;VALUE=DATE:20231219
DESCRIPTION:Property ID# 567187\, Locatoin: 98 Moorhouse Avenue\, Time: 11:
 00AM
SUMMARY:Auction for 
END:VEVENT
END:VCALENDAR
