BEGIN:VCALENDAR
VERSION:2.0
PRODID:icalendar-ruby
CALSCALE:GREGORIAN
BEGIN:VEVENT
DTSTAMP:20260425T235226Z
UID:fcd83c45-5866-4a4a-9b07-0fbe698d4cfd
DTSTART;VALUE=DATE:20240201
DESCRIPTION:Property ID# 568006\, Locatoin: 98 Moorhouse Avenue\, Time: 11:
 00AM
SUMMARY:Auction for 
END:VEVENT
END:VCALENDAR
