BEGIN:VCALENDAR
VERSION:2.0
PRODID:icalendar-ruby
CALSCALE:GREGORIAN
BEGIN:VEVENT
DTSTAMP:20260422T043653Z
UID:e45f40b2-44c6-4cb0-a634-2e4fbb38c57f
DTSTART;VALUE=DATE:20240920
DESCRIPTION:Property ID# 580922\, Locatoin: Harcourts Gold Papanui\, 471 Pa
 panui Road\, Papanui\, Time: 6:00PM
SUMMARY:Auction for 
END:VEVENT
END:VCALENDAR
