BEGIN:VCALENDAR
VERSION:2.0
PRODID:icalendar-ruby
CALSCALE:GREGORIAN
BEGIN:VEVENT
DTSTAMP:20260422T043750Z
UID:f1c2ea5b-5334-4987-9740-65471e08157a
DTSTART;VALUE=DATE:20250724
DESCRIPTION:Property ID# 585462\, Locatoin: Harcourts Gold Papanui\, 471 Pa
 panui Road\, Papanui (unless sold prior)\, Time: 10:00AM
SUMMARY:Auction for 
END:VEVENT
END:VCALENDAR
