BEGIN:VCALENDAR
VERSION:2.0
PRODID:icalendar-ruby
CALSCALE:GREGORIAN
BEGIN:VEVENT
DTSTAMP:20260422T043614Z
UID:305ad7c0-e0e1-4d65-bc62-55d1bea23b7a
DTSTART;VALUE=DATE:20250227
DESCRIPTION:Property ID# 587655\, Locatoin: Harcourts Gold Papanui\, 471 Pa
 panui Road\, Papanui (unless sold prior)\, Time: 10:00AM
SUMMARY:Auction for 
END:VEVENT
END:VCALENDAR
