BEGIN:VCALENDAR
VERSION:2.0
PRODID:icalendar-ruby
CALSCALE:GREGORIAN
BEGIN:VEVENT
DTSTAMP:20260422T043940Z
UID:39448b65-d3b2-4634-88e7-0c77683e1a9b
DTSTART;VALUE=DATE:20250314
DESCRIPTION:Property ID# 589086\, Locatoin: Harcourts Gold Papanui\, 471 Pa
 panui Road\, Papanui (no sale prior)\, Time: 4:00PM
SUMMARY:Auction for 
END:VEVENT
END:VCALENDAR
