BEGIN:VCALENDAR
VERSION:2.0
PRODID:icalendar-ruby
CALSCALE:GREGORIAN
BEGIN:VEVENT
DTSTAMP:20260425T210633Z
UID:5196f4a8-aa26-4f0c-aa95-c36aa409a8d0
DTSTART;VALUE=DATE:20250821
DESCRIPTION:Property ID# 595719\, Time: 4:00PM
SUMMARY:Auction for 
END:VEVENT
END:VCALENDAR
