BEGIN:VCALENDAR
VERSION:2.0
PRODID:icalendar-ruby
CALSCALE:GREGORIAN
BEGIN:VEVENT
DTSTAMP:20260425T204949Z
UID:f6207e47-d59c-4f93-9922-294873801193
DTSTART;VALUE=DATE:20250908
DESCRIPTION:Property ID# 596085\, Time: 4:00PM
SUMMARY:Auction for 
END:VEVENT
END:VCALENDAR
