BEGIN:VCALENDAR
VERSION:2.0
PRODID:icalendar-ruby
CALSCALE:GREGORIAN
BEGIN:VEVENT
DTSTAMP:20260425T210246Z
UID:95e5d37b-d41e-47d7-97ca-f7f5285d79ea
DTSTART;VALUE=DATE:20250918
DESCRIPTION:Property ID# 596498\, Locatoin: Onsite (unless sold prior)\, Ti
 me: 6:00PM
SUMMARY:Auction for 
END:VEVENT
END:VCALENDAR
