BEGIN:VCALENDAR
VERSION:2.0
PRODID:icalendar-ruby
CALSCALE:GREGORIAN
BEGIN:VEVENT
DTSTAMP:20260425T210006Z
UID:82db33de-424f-408e-a687-102f1cf3a660
DTSTART;VALUE=DATE:20250917
DESCRIPTION:Property ID# 596640\, Time: 2:00PM
SUMMARY:Auction for 
END:VEVENT
END:VCALENDAR
