BEGIN:VCALENDAR
VERSION:2.0
PRODID:icalendar-ruby
CALSCALE:GREGORIAN
BEGIN:VEVENT
DTSTAMP:20260425T205133Z
UID:b7c043bd-e2dd-40ad-b27d-119a1f8d7ba7
DTSTART;VALUE=DATE:20251008
DESCRIPTION:Property ID# 596857\, Time: 4:00PM
SUMMARY:Auction for 
END:VEVENT
END:VCALENDAR
