BEGIN:VCALENDAR
VERSION:2.0
PRODID:icalendar-ruby
CALSCALE:GREGORIAN
BEGIN:VEVENT
DTSTAMP:20260425T205015Z
UID:08fc9e09-8af8-4523-831c-39a55f5e7d78
DTSTART;VALUE=DATE:20251011
DESCRIPTION:Property ID# 596949\, Locatoin: Onsite (unless sold prior)\, Ti
 me: 12:00PM
SUMMARY:Auction for 
END:VEVENT
END:VCALENDAR
