BEGIN:VCALENDAR
VERSION:2.0
PRODID:icalendar-ruby
CALSCALE:GREGORIAN
BEGIN:VEVENT
DTSTAMP:20260420T124326Z
UID:a5700951-d2ee-4079-8531-38e9d5e857a5
DTSTART;VALUE=DATE:20251023
DESCRIPTION:Property ID# 597728\, Locatoin: 471 Papanui Road\, Gold Auction
  Rooms (USP)\, Time: 10:00AM
SUMMARY:Auction for 
END:VEVENT
END:VCALENDAR
