BEGIN:VCALENDAR
VERSION:2.0
PRODID:icalendar-ruby
CALSCALE:GREGORIAN
BEGIN:VEVENT
DTSTAMP:20260425T205040Z
UID:bc0480ad-89cb-46c4-bdeb-1c3360811ffc
DTSTART;VALUE=DATE:20251120
DESCRIPTION:Property ID# 599489\, Locatoin: Onsite\, Time: 2:00PM
SUMMARY:Auction for 
END:VEVENT
END:VCALENDAR
