BEGIN:VCALENDAR
VERSION:2.0
PRODID:icalendar-ruby
CALSCALE:GREGORIAN
BEGIN:VEVENT
DTSTAMP:20260425T235129Z
UID:d8c3c126-fa6c-4367-8b69-6a23a56fdeeb
DTSTART;VALUE=DATE:20251127
DESCRIPTION:Property ID# 599750\, Locatoin: 98 Moorhouse Avenue\, Time: 11:
 00AM
SUMMARY:Auction for 
END:VEVENT
END:VCALENDAR
