BEGIN:VCALENDAR
VERSION:2.0
PRODID:icalendar-ruby
CALSCALE:GREGORIAN
BEGIN:VEVENT
DTSTAMP:20260422T043744Z
UID:855bd660-fa5b-465c-a0b6-e1368462c9cf
DTSTART;VALUE=DATE:20251218
DESCRIPTION:Property ID# 600894\, Locatoin: Harcourts Gold Papanui\, 471 Pa
 panui Road\, Papanui (unless sold prior)\, Time: 10:00AM
SUMMARY:Auction for 
END:VEVENT
END:VCALENDAR
