BEGIN:VCALENDAR
VERSION:2.0
PRODID:icalendar-ruby
CALSCALE:GREGORIAN
BEGIN:VEVENT
DTSTAMP:20260425T205427Z
UID:50d9c6dd-0acf-43c2-9da1-8e53decb1c08
DTSTART;VALUE=DATE:20260312
DESCRIPTION:Property ID# 603134\, Locatoin: Onsite (unless sold prior)\, Ti
 me: 4:00PM
SUMMARY:Auction for 
END:VEVENT
END:VCALENDAR
