BEGIN:VCALENDAR
VERSION:2.0
PRODID:icalendar-ruby
CALSCALE:GREGORIAN
BEGIN:VEVENT
DTSTAMP:20260422T043751Z
UID:fe07c772-231a-4671-ae35-a9c1172e79a9
DTSTART;VALUE=DATE:20260305
DESCRIPTION:Property ID# 603355\, Locatoin: Harcourts Gold Papanui\, 471 Pa
 panui Road\, Papanui (unless sold prior)\, Time: 10:00AM
SUMMARY:Auction for 
END:VEVENT
END:VCALENDAR
