BEGIN:VCALENDAR
VERSION:2.0
PRODID:icalendar-ruby
CALSCALE:GREGORIAN
BEGIN:VEVENT
DTSTAMP:20260425T205203Z
UID:11795fe5-fcea-4827-a377-b7c10fa5ab17
DTSTART;VALUE=DATE:20260423
DESCRIPTION:Property ID# 605709\, Locatoin: Onsite (unless sold prior)\, Ti
 me: 4:00PM
SUMMARY:Auction for 
END:VEVENT
END:VCALENDAR
