BEGIN:VCALENDAR
VERSION:2.0
PRODID:icalendar-ruby
CALSCALE:GREGORIAN
BEGIN:VEVENT
DTSTAMP:20260425T205030Z
UID:b2195a5e-ff96-43f1-9918-a05178fed704
DTSTART;VALUE=DATE:20260422
DESCRIPTION:Property ID# 606027\, Locatoin: Onsite (unless sold prior)\, Ti
 me: 4:00PM
SUMMARY:Auction for 
END:VEVENT
END:VCALENDAR
